BEGIN:VCALENDAR
PRODID:-//spiritec//spiritec media library//EN
VERSION:2.0
METHOD:PUBLISH
BEGIN:VEVENT
UID:kob-2026-06-28-5931
DTSTART:20260628T160000Z
DTSTAMP:20260421T181104Z
LOCATION:Kleine Komödie Warnemünde
SUMMARY:Merci, Chérie
DESCRIPTION:
CREATED:20260421T181104Z
DTEND:20260628T215900Z
END:VEVENT
END:VCALENDAR
