BEGIN:VCALENDAR
PRODID:-//spiritec//spiritec media library//EN
VERSION:2.0
METHOD:PUBLISH
BEGIN:VEVENT
UID:kob-2026-06-27-5930
DTSTART:20260627T180000Z
DTSTAMP:20260421T102755Z
LOCATION:Kleine Komödie Warnemünde
SUMMARY:Keiner hat gesagt, dass du ausziehen sollst (State of the Union)
DESCRIPTION:
CREATED:20260421T102755Z
DTEND:20260627T215900Z
END:VEVENT
END:VCALENDAR
