BEGIN:VCALENDAR
PRODID:-//spiritec//spiritec media library//EN
VERSION:2.0
METHOD:PUBLISH
BEGIN:VEVENT
UID:kob-2026-06-26-5929
DTSTART:20260626T180000Z
DTSTAMP:20260421T102429Z
LOCATION:Kleine Komödie Warnemünde
SUMMARY:Keiner hat gesagt, dass du ausziehen sollst (State of the Union)
DESCRIPTION:
CREATED:20260421T102429Z
DTEND:20260626T215900Z
END:VEVENT
END:VCALENDAR
