BEGIN:VCALENDAR
PRODID:-//spiritec//spiritec media library//EN
VERSION:2.0
METHOD:PUBLISH
BEGIN:VEVENT
UID:kob-2026-06-21-5928
DTSTART:20260621T160000Z
DTSTAMP:20260424T092845Z
LOCATION:Kleine Komödie Warnemünde
SUMMARY:Wie angelt man sich einen Feministen? (How to date a Feminist)
DESCRIPTION:
CREATED:20260424T092845Z
DTEND:20260621T215900Z
END:VEVENT
END:VCALENDAR
