BEGIN:VCALENDAR
PRODID:-//spiritec//spiritec media library//EN
VERSION:2.0
METHOD:PUBLISH
BEGIN:VEVENT
UID:kob-2026-06-19-5927
DTSTART:20260619T180000Z
DTSTAMP:20260424T093005Z
LOCATION:Kleine Komödie Warnemünde
SUMMARY:Wie angelt man sich einen Feministen? (How to date a Feminist)
DESCRIPTION:
CREATED:20260424T093005Z
DTEND:20260619T215900Z
END:VEVENT
END:VCALENDAR
