BEGIN:VCALENDAR
PRODID:-//spiritec//spiritec media library//EN
VERSION:2.0
METHOD:PUBLISH
BEGIN:VEVENT
UID:kob-2026-06-18-5926
DTSTART:20260618T180000Z
DTSTAMP:20260424T133428Z
LOCATION:Kleine Komödie Warnemünde
SUMMARY:So oder so ist das Leben
DESCRIPTION:
CREATED:20260424T133428Z
DTEND:20260618T215900Z
END:VEVENT
END:VCALENDAR
