BEGIN:VCALENDAR
PRODID:-//spiritec//spiritec media library//EN
VERSION:2.0
METHOD:PUBLISH
BEGIN:VEVENT
UID:kob-2026-06-13-5924
DTSTART:20260613T180000Z
DTSTAMP:20260421T150148Z
LOCATION:Kleine Komödie Warnemünde
SUMMARY:Alte Liebe
DESCRIPTION:
CREATED:20260421T150148Z
DTEND:20260613T215900Z
END:VEVENT
END:VCALENDAR
