BEGIN:VCALENDAR
PRODID:-//spiritec//spiritec media library//EN
VERSION:2.0
METHOD:PUBLISH
BEGIN:VEVENT
UID:kob-2026-06-20-5919
DTSTART:20260620T180000Z
DTSTAMP:20260424T191549Z
LOCATION:Ateliertheater
SUMMARY:22 Bahnen
DESCRIPTION:
CREATED:20260424T191549Z
DTEND:20260620T215900Z
END:VEVENT
END:VCALENDAR
