BEGIN:VCALENDAR
PRODID:-//spiritec//spiritec media library//EN
VERSION:2.0
METHOD:PUBLISH
BEGIN:VEVENT
UID:kob-2026-06-01-5918
DTSTART:20260601T080000Z
DTSTAMP:20260424T191438Z
LOCATION:Ateliertheater
SUMMARY:22 Bahnen
DESCRIPTION:
CREATED:20260424T191438Z
DTEND:20260601T215900Z
END:VEVENT
END:VCALENDAR
